BEGIN:VCALENDAR
VERSION:2.0
PRODID:-//Friends of MacKenzie Center - ECPv6.15.20//NONSGML v1.0//EN
CALSCALE:GREGORIAN
METHOD:PUBLISH
X-WR-CALNAME:Friends of MacKenzie Center
X-ORIGINAL-URL:https://friendsofmackenzie.org
X-WR-CALDESC:Events for Friends of MacKenzie Center
REFRESH-INTERVAL;VALUE=DURATION:PT1H
X-Robots-Tag:noindex
X-PUBLISHED-TTL:PT1H
BEGIN:VTIMEZONE
TZID:America/Chicago
BEGIN:DAYLIGHT
TZOFFSETFROM:-0600
TZOFFSETTO:-0500
TZNAME:CDT
DTSTART:20200308T080000
END:DAYLIGHT
BEGIN:STANDARD
TZOFFSETFROM:-0500
TZOFFSETTO:-0600
TZNAME:CST
DTSTART:20201101T070000
END:STANDARD
BEGIN:DAYLIGHT
TZOFFSETFROM:-0600
TZOFFSETTO:-0500
TZNAME:CDT
DTSTART:20210314T080000
END:DAYLIGHT
BEGIN:STANDARD
TZOFFSETFROM:-0500
TZOFFSETTO:-0600
TZNAME:CST
DTSTART:20211107T070000
END:STANDARD
BEGIN:DAYLIGHT
TZOFFSETFROM:-0600
TZOFFSETTO:-0500
TZNAME:CDT
DTSTART:20220313T080000
END:DAYLIGHT
BEGIN:STANDARD
TZOFFSETFROM:-0500
TZOFFSETTO:-0600
TZNAME:CST
DTSTART:20221106T070000
END:STANDARD
BEGIN:DAYLIGHT
TZOFFSETFROM:-0600
TZOFFSETTO:-0500
TZNAME:CDT
DTSTART:20230312T080000
END:DAYLIGHT
BEGIN:STANDARD
TZOFFSETFROM:-0500
TZOFFSETTO:-0600
TZNAME:CST
DTSTART:20231105T070000
END:STANDARD
BEGIN:DAYLIGHT
TZOFFSETFROM:-0600
TZOFFSETTO:-0500
TZNAME:CDT
DTSTART:20240310T080000
END:DAYLIGHT
BEGIN:STANDARD
TZOFFSETFROM:-0500
TZOFFSETTO:-0600
TZNAME:CST
DTSTART:20241103T070000
END:STANDARD
END:VTIMEZONE
BEGIN:VEVENT
DTSTART;TZID=America/Chicago:20231111T103000
DTEND;TZID=America/Chicago:20231111T120000
DTSTAMP:20260424T210011
CREATED:20231005T213717Z
LAST-MODIFIED:20231005T213717Z
UID:7395-1699698600-1699704000@friendsofmackenzie.org
SUMMARY:Fall Archery
DESCRIPTION:Fall Archery In The Lodge                                                       \nSaturday\, Nov. 11\n10:30 a.m. – noon \nHave you ever wondered how to shoot with bows and arrows? Now is your chance to get a guided archery program in our lodge. We test our skills and learn the steps to archery success. This free event has a limit of 12 people\, so please register in advance by calling 608-635-8112. Meet naturalists at the lodge at 10:30 a.m.
URL:https://friendsofmackenzie.org/event/fall-archery/
LOCATION:Lodge
CATEGORIES:Public event
END:VEVENT
BEGIN:VEVENT
DTSTART;TZID=America/Chicago:20231104T173000
DTEND;TZID=America/Chicago:20231104T200000
DTSTAMP:20260424T210011
CREATED:20231005T213056Z
LAST-MODIFIED:20231005T213056Z
UID:7386-1699119000-1699128000@friendsofmackenzie.org
SUMMARY:Fall Candlelight Hike and Campfire
DESCRIPTION:Fall Candlelight Hike & Campfire                                                    \nSaturday\, Nov. 4\n5:30 – 8 p.m. \nCome experience the trails by candlelight. Everyone is welcome to walk down a candlelit path beginning at the lodge\, then cozy up around the campfire. Please park in the lodge parking lot and dress for the weather. Drop-ins are welcome.
URL:https://friendsofmackenzie.org/event/fall-candlelight-hike-and-campfire/
LOCATION:Lodge
CATEGORIES:Public event
ATTACH;FMTTYPE=image/jpeg:https://friendsofmackenzie.org/wp-content/uploads/2017/09/fire.jpg
END:VEVENT
BEGIN:VEVENT
DTSTART;TZID=America/Chicago:20231026T090000
DTEND;TZID=America/Chicago:20231026T120000
DTSTAMP:20260424T210011
CREATED:20230916T203849Z
LAST-MODIFIED:20230916T203849Z
UID:7356-1698310800-1698321600@friendsofmackenzie.org
SUMMARY:Nature Art
DESCRIPTION:Nature Art\nThursday\, Oct. 26\n10 a.m. – noon \nThere is beauty all around us. Join MacKenzie naturalists to discover nature art. We’ll collect our own materials to create art with mostly natural items. Please dress for the weather and feel free to bring your own bag or basket for nature collection. Meet naturalists at the Badger Den parking lot.
URL:https://friendsofmackenzie.org/event/nature-art/
LOCATION:Badger Den
CATEGORIES:Public event
ATTACH;FMTTYPE=image/jpeg:https://friendsofmackenzie.org/wp-content/uploads/2016/09/autumn-leaves.jpg
END:VEVENT
BEGIN:VEVENT
DTSTART;TZID=America/Chicago:20231021T100000
DTEND;TZID=America/Chicago:20231021T150000
DTSTAMP:20260424T210011
CREATED:20230613T141129Z
LAST-MODIFIED:20230909T040916Z
UID:7253-1697882400-1697900400@friendsofmackenzie.org
SUMMARY:Fall Festival
DESCRIPTION:Fall themed activities\, food for purchase\, a great way to celebrate a great season!  One per vehicle admission charge of $10 gets your family/group in.  Activities include wildlife viewing\, pond study\, learn to fish\, archery\, geocaching\, hay ride\, crafts\, museums\, wood cutting\, and fur/skull study.  Gift shop items also available. \nVolunteers are needed all day on Oct. 21. There may be additional opportunities to volunteer for set-up and clean-up. Please contact the Friends of MacKenzie at FriendsOfMacKenzie@gmail.com if you’re interested in volunteering.
URL:https://friendsofmackenzie.org/event/fall-festival-2/
LOCATION:The MacKenzie Center\, W7303 County Highway CS\, Poynette\, 53955\, United States
CATEGORIES:Public event
ATTACH;FMTTYPE=image/jpeg:https://friendsofmackenzie.org/wp-content/uploads/2016/08/pumpkins-469641_1920.jpg
END:VEVENT
BEGIN:VEVENT
DTSTART;TZID=America/Chicago:20230930T173000
DTEND;TZID=America/Chicago:20230930T210000
DTSTAMP:20260424T210011
CREATED:20230720T123833Z
LAST-MODIFIED:20230723T190616Z
UID:7311-1696095000-1696107600@friendsofmackenzie.org
SUMMARY:Friends' Fundraising Banquet
DESCRIPTION:Door prizes (firearms plus many other items)\, raffle tables (rifles\, shotguns\, outdoor items\, archery\, alcoholic beverages and more).  Ticket order deadline is September 10\, 2023.  Tickets will not be sold at the door!  Use the link below for more information and to register. \nFriends of MacKenzie Banquet Invite 2023 updated 7.9.23
URL:https://friendsofmackenzie.org/event/friends-fundraising-banquet/
LOCATION:Lodge
CATEGORIES:Public event
END:VEVENT
BEGIN:VEVENT
DTSTART;TZID=America/Chicago:20230930T173000
DTEND;TZID=America/Chicago:20230930T203000
DTSTAMP:20260424T210011
CREATED:20230613T140900Z
LAST-MODIFIED:20230613T215817Z
UID:7251-1696095000-1696105800@friendsofmackenzie.org
SUMMARY:Friends Fundraiser Banquet
DESCRIPTION:Great auction items\, food and beverages.  Reservations required.  More information to come.
URL:https://friendsofmackenzie.org/event/friends-fundraiser-banquet/
LOCATION:Lodge
CATEGORIES:Public event
END:VEVENT
BEGIN:VEVENT
DTSTART;TZID=America/Chicago:20230922T150000
DTEND;TZID=America/Chicago:20230922T160000
DTSTAMP:20260424T210011
CREATED:20230909T040718Z
LAST-MODIFIED:20230909T040817Z
UID:7348-1695394800-1695398400@friendsofmackenzie.org
SUMMARY:Fungi Frolic
DESCRIPTION:Have you been noticing more fungi around? Now is your chance to learn about the mushrooms that are popping out of the ground at MacKenzie. Please wear long pants and closed-toed shoes to avoid poison ivy while walking through the woods. Meet our naturalists in the Badger Den parking lot.
URL:https://friendsofmackenzie.org/event/fungi-frolic/
LOCATION:Badger Den
CATEGORIES:Public event
END:VEVENT
BEGIN:VEVENT
DTSTART;TZID=America/Chicago:20230909T100000
DTEND;TZID=America/Chicago:20230909T153000
DTSTAMP:20260424T210011
CREATED:20230909T041154Z
LAST-MODIFIED:20230909T041154Z
UID:7351-1694253600-1694273400@friendsofmackenzie.org
SUMMARY:Girl Scouts Love State Parks
DESCRIPTION:Girl Scouts Love State Parks\nSaturday\, Sept. 9\n10 a.m. – 3:30 p.m. \nJoin scouts nationwide in celebrating your state parks this weekend. As part of a statewide partnership\, MacKenzie is welcoming scouts to participate in a morning stewardship project removing buckthorn and learning about invasive species (please wear long pants\, sleeves and closed toed shoes). \nScheduled programs will be held at noon\, 1:15\, and 2:15 p.m. with presentations from MacKenzie’s master falconer and his red-tailed hawk\, Navi\, guided wildlife tours\, and an animal signs & camouflage hike. Drop-in events will also be available with educators throughout the afternoon.
URL:https://friendsofmackenzie.org/event/girl-scouts-love-state-parks/
LOCATION:The MacKenzie Center\, W7303 County Highway CS\, Poynette\, 53955\, United States
CATEGORIES:Public event
END:VEVENT
BEGIN:VEVENT
DTSTART;TZID=America/Chicago:20230615T090000
DTEND;TZID=America/Chicago:20230615T120000
DTSTAMP:20260424T210011
CREATED:20230417T174415Z
LAST-MODIFIED:20230417T174621Z
UID:7233-1686819600-1686830400@friendsofmackenzie.org
SUMMARY:Girls and Women Archery Clinic
DESCRIPTION:Registration required and fees charged.
URL:https://friendsofmackenzie.org/event/girls-and-women-archery-clinic/
LOCATION:The MacKenzie Center\, W7303 County Highway CS\, Poynette\, 53955\, United States
CATEGORIES:Public event
ORGANIZER;CN="Austyn Long":MAILTO:Austyn.Long@wisconsin.gov
END:VEVENT
BEGIN:VEVENT
DTSTART;TZID=America/Chicago:20230610T090000
DTEND;TZID=America/Chicago:20230610T120000
DTSTAMP:20260424T210011
CREATED:20230417T174236Z
LAST-MODIFIED:20230417T174357Z
UID:7231-1686387600-1686398400@friendsofmackenzie.org
SUMMARY:Youth Archery Day
DESCRIPTION:
URL:https://friendsofmackenzie.org/event/youth-archery-day/
LOCATION:The MacKenzie Center\, W7303 County Highway CS\, Poynette\, 53955\, United States
CATEGORIES:Public event
ORGANIZER;CN="Austyn Long":MAILTO:Austyn.Long@wisconsin.gov
END:VEVENT
BEGIN:VEVENT
DTSTART;TZID=America/Chicago:20230602T100000
DTEND;TZID=America/Chicago:20230602T110000
DTSTAMP:20260424T210011
CREATED:20230417T174045Z
LAST-MODIFIED:20230417T174208Z
UID:7229-1685700000-1685703600@friendsofmackenzie.org
SUMMARY:Story Time with Animals
DESCRIPTION:Introduce your toddler or pre-school aged child to the outdoors during story time. Please meet inside the wildlife area near the wolves. Drop-in activities available.
URL:https://friendsofmackenzie.org/event/story-time-with-animals-9/
LOCATION:Wildlife Area\, W7303 County Highway CS\, Poynette\, 53955
CATEGORIES:Public event
ORGANIZER;CN="Austyn Long":MAILTO:Austyn.Long@wisconsin.gov
END:VEVENT
BEGIN:VEVENT
DTSTART;TZID=America/Chicago:20230523T090000
DTEND;TZID=America/Chicago:20230523T100000
DTSTAMP:20260424T210011
CREATED:20230417T173853Z
LAST-MODIFIED:20230417T174017Z
UID:7227-1684832400-1684836000@friendsofmackenzie.org
SUMMARY:MacKenzie Spring Birding
DESCRIPTION:Meet at south trails.
URL:https://friendsofmackenzie.org/event/mackenzie-spring-birding/
LOCATION:South Trails Parking Lot\, Poynette\, WI
CATEGORIES:Public event
ATTACH;FMTTYPE=image/jpeg:https://friendsofmackenzie.org/wp-content/uploads/2022/04/sparrows-3434123_1920.jpg
ORGANIZER;CN="Austyn Long":MAILTO:Austyn.Long@wisconsin.gov
END:VEVENT
BEGIN:VEVENT
DTSTART;TZID=America/Chicago:20230518T090000
DTEND;TZID=America/Chicago:20230518T150000
DTSTAMP:20260424T210011
CREATED:20230417T161133Z
LAST-MODIFIED:20230417T161355Z
UID:7220-1684400400-1684422000@friendsofmackenzie.org
SUMMARY:Midwest Outdoor Heritage Expo (MOHEE) May 18\, 2023
DESCRIPTION:FREE FIELD TRIP OPPORTUNITY You and your students are invited…The Midwest Outdoor Heritage Education Expo (pronounced MO’-hee) presented by The Outdoor Heritage Education Center (OHEC)(OH’-heck)\, non-profit conservation organization. This is a perfect opportunity to extend learning outdoors before the school year comes to an end. Please consider joining us for the 2023 youth expo. \nMay 17th or 18th\, 2023 (pick the day that works best) at the MacKenzie Center in Poynette\, WI. \nStudents can explore mentored programs so they can develop outdoor skills and enjoy lifelong outdoor activities. Connect with educators\, trained safety instructors and other volunteer mentors who provide an enriching and engaging experience connecting students to Wisconsin’s natural resources\, outdoor heritage and lifelong skills. Event is Free. Transportation funding available\, based on true need. \nIdeal for the 4th – 7th grade audience\, with many activities correlated to state academic standards. At the expo\, educators\, conservation volunteers\, and DNR professionals will help keep students engaged while increasing their understanding\, appreciation and sense of stewardship for natural resources\, Wisconsin’s outdoor heritage and related activities. New activities are added every year with stations that emphasize hands-on learning experiences where students can participate in many outdoor skills activities. Visit the website for more information. Pre Registration is required.  \nQuestions? Contact organizer Ruth Ann Lee\, OHEC Executive Director or 608-358-1708.
URL:https://friendsofmackenzie.org/event/midwest-outdoor-heritage-expo-mohee-may-18-2023/
LOCATION:The MacKenzie Center\, W7303 County Highway CS\, Poynette\, 53955\, United States
CATEGORIES:Public event
ATTACH;FMTTYPE=image/jpeg:https://friendsofmackenzie.org/wp-content/uploads/2016/05/MOHEE-5-18-16-011-scaled.jpg
END:VEVENT
BEGIN:VEVENT
DTSTART;TZID=America/Chicago:20230517T090000
DTEND;TZID=America/Chicago:20230517T150000
DTSTAMP:20260424T210011
CREATED:20230417T155436Z
LAST-MODIFIED:20230417T161104Z
UID:7217-1684314000-1684335600@friendsofmackenzie.org
SUMMARY:Midwest Outdoor Heritage Education Expo (MOHEE) May 17\, 2023
DESCRIPTION:FREE FIELD TRIP OPPORTUNITY You and your students are invited…The Midwest Outdoor Heritage Education Expo (pronounced MO’-hee) presented by The Outdoor Heritage Education Center (OHEC)(OH’-heck)\, non-profit conservation organization. This is a perfect opportunity to extend learning outdoors before the school year comes to an end. Please consider joining us for the 2023 youth expo. \nMay 17th or 18th\, 2023 (pick the day that works best) at the MacKenzie Center in Poynette\, WI. \nStudents can explore mentored programs so they can develop outdoor skills and enjoy lifelong outdoor activities. Connect with educators\, trained safety instructors and other volunteer mentors who provide an enriching and engaging experience connecting students to Wisconsin’s natural resources\, outdoor heritage and lifelong skills. Event is Free. Transportation funding available\, based on true need. \nIdeal for the 4th – 7th grade audience\, with many activities correlated to state academic standards. At the expo\, educators\, conservation volunteers\, and DNR professionals will help keep students engaged while increasing their understanding\, appreciation and sense of stewardship for natural resources\, Wisconsin’s outdoor heritage and related activities. New activities are added every year with stations that emphasize hands-on learning experiences where students can participate in many outdoor skills activities. Visit the website for more information. Pre Registration is required.  \nQuestions? Contact organizer Ruth Ann Lee\, OHEC Executive Director or 608-358-1708. \n 
URL:https://friendsofmackenzie.org/event/midwest-outdoor-heritage-education-expo-mohee-may-17-2023/
LOCATION:The MacKenzie Center\, W7303 County Highway CS\, Poynette\, 53955\, United States
CATEGORIES:Public event
ATTACH;FMTTYPE=image/jpeg:https://friendsofmackenzie.org/wp-content/uploads/2016/05/MOHEE-5-18-16-010-scaled.jpg
END:VEVENT
BEGIN:VEVENT
DTSTART;TZID=America/Chicago:20230429T140000
DTEND;TZID=America/Chicago:20230429T150000
DTSTAMP:20260424T210011
CREATED:20230417T173331Z
LAST-MODIFIED:20230417T173836Z
UID:7224-1682776800-1682780400@friendsofmackenzie.org
SUMMARY:Story Time with Animals
DESCRIPTION:Introduce your toddler or pre-school aged child to the outdoors during story time. Please meet inside the wildlife area near the wolves. Drop-in activities available.
URL:https://friendsofmackenzie.org/event/story-time-with-animals-8/
LOCATION:Wildlife Area\, W7303 County Highway CS\, Poynette\, 53955
CATEGORIES:Public event
ATTACH;FMTTYPE=image/jpeg:https://friendsofmackenzie.org/wp-content/uploads/2018/05/IMG_0704-scaled.jpg
ORGANIZER;CN="Austyn Long":MAILTO:Austyn.Long@wisconsin.gov
END:VEVENT
BEGIN:VEVENT
DTSTART;TZID=America/Chicago:20230401T080000
DTEND;TZID=America/Chicago:20230401T140000
DTSTAMP:20260424T210011
CREATED:20230311T233735Z
LAST-MODIFIED:20230330T203527Z
UID:7154-1680336000-1680357600@friendsofmackenzie.org
SUMMARY:Maple Syrup Festival April 1\,2023 CANCELED!
DESCRIPTION:From DNR Staff:  With heavy hearts\, we have made the difficult decision to cancel the Maple Festival on Saturday. The weather forecast is calling for dangerous winds\, snow\, and hail\, and the risk posed is too great to continue on with our outdoor event. \n 
URL:https://friendsofmackenzie.org/event/maple-syrup-festival-2023/
LOCATION:The MacKenzie Center\, W7303 County Highway CS\, Poynette\, 53955\, United States
CATEGORIES:Public event
ATTACH;FMTTYPE=image/jpeg:https://friendsofmackenzie.org/wp-content/uploads/2017/03/Sap-drop-2017-scaled.jpg
END:VEVENT
BEGIN:VEVENT
DTSTART;TZID=America/Chicago:20230106T173000
DTEND;TZID=America/Chicago:20230106T190000
DTSTAMP:20260424T210011
CREATED:20221202T042652Z
LAST-MODIFIED:20221202T042652Z
UID:7056-1673026200-1673031600@friendsofmackenzie.org
SUMMARY:Wolf Moon Hike
DESCRIPTION:Wolf Moon Hike\nFriday\, Jan. 6\, 5:30-7 p.m. \nExperience the MacKenzie Center in the moonlight with a guided hike through our forests and prairies. Arrive at 5:30 p.m. to spend some time by the fire before departing or come at 6 p.m. to join us for the hike. We’ll be moving more slowly\, as we listen for what the nocturnal world has in store. We may even hear a howling wolf along the way.
URL:https://friendsofmackenzie.org/event/wolf-moon-hike-2/
LOCATION:Lodge
CATEGORIES:Public event
ATTACH;FMTTYPE=image/jpeg:https://friendsofmackenzie.org/wp-content/uploads/2019/01/IMG_9160.jpeg
END:VEVENT
BEGIN:VEVENT
DTSTART;TZID=America/Chicago:20230101T130000
DTEND;TZID=America/Chicago:20230101T143000
DTSTAMP:20260424T210011
CREATED:20221202T042411Z
LAST-MODIFIED:20221202T042411Z
UID:7054-1672578000-1672583400@friendsofmackenzie.org
SUMMARY:First Day Hike
DESCRIPTION:First Day Hike\nSunday\, Jan. 1\, 1-2:30 p.m. \nStart the year off outside with a brisk hike alongside MacKenzie Naturalists. We will meet at the south trails and depart for a 1-2 mile hike through the forests and prairies at MacKenzie. We’ll hike at a moderate pace and offer turn-around points to accommodate hikers of many comfort levels.
URL:https://friendsofmackenzie.org/event/first-day-hike/
LOCATION:South Trails Parking Lot\, Poynette\, WI
CATEGORIES:Public event
ATTACH;FMTTYPE=image/jpeg:https://friendsofmackenzie.org/wp-content/uploads/2022/11/MacKenzie-Center-south-trail-system.jpg
END:VEVENT
BEGIN:VEVENT
DTSTART;TZID=America/Chicago:20221217T090000
DTEND;TZID=America/Chicago:20221217T120000
DTSTAMP:20260424T210011
CREATED:20221129T170627Z
LAST-MODIFIED:20221202T042205Z
UID:7048-1671267600-1671278400@friendsofmackenzie.org
SUMMARY:Holiday Greenery Workshop
DESCRIPTION:Sign up to learn how to make your own holiday greenery such as a wreath\, hanger or centerpiece using natural materials. Please preregister and prepay ($10) at the MacKenzie Center 608-635-8112 by Dec. 3.  All supplies required will be provided but feel free to bring any materials you may have. Our greenery workshop will once again be indoors this year.
URL:https://friendsofmackenzie.org/event/holiday-greenery-workshop-2/
LOCATION:The MacKenzie Center\, W7303 County Highway CS\, Poynette\, 53955\, United States
CATEGORIES:Public event
ATTACH;FMTTYPE=image/jpeg:https://friendsofmackenzie.org/wp-content/uploads/2022/11/Wreath.jpg
END:VEVENT
BEGIN:VEVENT
DTSTART;TZID=America/Chicago:20221214T100000
DTEND;TZID=America/Chicago:20221214T113000
DTSTAMP:20260424T210011
CREATED:20221129T170000Z
LAST-MODIFIED:20221129T170000Z
UID:7044-1671012000-1671017400@friendsofmackenzie.org
SUMMARY:Winter Wonders Hike
DESCRIPTION:Join us for a winter wonders hike on our South Trails! Whether there is fresh snow or not\, there is still lots to explore in the forest and prairie. We will discover and learn what the plants and animals are doing this time of year to survive. Please dress for the weather and meet naturalists at the South Trails parking lot at 10:00 a.m.
URL:https://friendsofmackenzie.org/event/winter-wonders-hike/
LOCATION:South Trails Parking Lot\, Poynette\, WI
CATEGORIES:Public event
ATTACH;FMTTYPE=image/jpeg:https://friendsofmackenzie.org/wp-content/uploads/2022/11/MacKenzie-Center-south-trail-system.jpg
END:VEVENT
BEGIN:VEVENT
DTSTART;TZID=America/Chicago:20221202T130000
DTEND;TZID=America/Chicago:20221202T160000
DTSTAMP:20260424T210011
CREATED:20221129T165325Z
LAST-MODIFIED:20221129T165325Z
UID:7041-1669986000-1669996800@friendsofmackenzie.org
SUMMARY:Knitting Get-together
DESCRIPTION:This get-together is designed for anyone working on a handmade fiber creation (knit or crochet) to craft together in the MacKenzie Lodge.  We encourage participants to bring their own supplies\, although we will have a small amount of yarn\, knitting needles and patterns available.  Join us by the fireplace\, bring your own warm beverage and we can knit together!
URL:https://friendsofmackenzie.org/event/knitting-get-together/
LOCATION:Lodge
CATEGORIES:Public event
END:VEVENT
BEGIN:VEVENT
DTSTART;TZID=America/Chicago:20220827T070000
DTEND;TZID=America/Chicago:20220827T090000
DTSTAMP:20260424T210011
CREATED:20220727T200851Z
LAST-MODIFIED:20220727T200851Z
UID:6990-1661583600-1661590800@friendsofmackenzie.org
SUMMARY:Early Birding Hike\, August 27\, 7-9 am
DESCRIPTION:Early Birding Hike: 7 – 9 a.m.\, Saturday\, Aug. 27 \nBirds are out and about! Let’s catch a glimpse of these feathered friends bright and early as we meander the South Trails. Please bring any of your own birding equipment\, although we will provide field guides and binoculars. Meet Naturalists at the South Trails parking lot for a guided hike.
URL:https://friendsofmackenzie.org/event/early-birding-hike-august-27-7-9-am/
LOCATION:The MacKenzie Center\, W7303 County Highway CS\, Poynette\, 53955\, United States
CATEGORIES:Public event
END:VEVENT
BEGIN:VEVENT
DTSTART;TZID=America/Chicago:20220817T090000
DTEND;TZID=America/Chicago:20220817T120000
DTSTAMP:20260424T210011
CREATED:20220727T200716Z
LAST-MODIFIED:20220727T200716Z
UID:6988-1660726800-1660737600@friendsofmackenzie.org
SUMMARY:Nature Journaling Workshop\, August 17\, 9 am - noon
DESCRIPTION:Nature Journaling Workshop: 9 a.m. – noon\, Wednesday\, Aug. 17 \nThis free workshop will give you the basic knowledge needed to create your own nature journal. You don’t need to be an expert to enjoy nature\, but a journal helps you keep track of what you’ve seen and learned. Feel free to bring your own notebooks\, pencils and art supplies. Materials for a basic nature journal will be available. Limit of 20 people. Please call 608-635-8112 to register.
URL:https://friendsofmackenzie.org/event/nature-journaling-workshop-august-17-9-am-noon/
LOCATION:The MacKenzie Center\, W7303 County Highway CS\, Poynette\, 53955\, United States
CATEGORIES:Public event
END:VEVENT
BEGIN:VEVENT
DTSTART;TZID=America/Chicago:20220528T100000
DTEND;TZID=America/Chicago:20220528T120000
DTSTAMP:20260424T210011
CREATED:20220414T232500Z
LAST-MODIFIED:20220414T232500Z
UID:6951-1653732000-1653739200@friendsofmackenzie.org
SUMMARY:Nature in Miniature
DESCRIPTION:Nature in Miniature: 10 a.m.-noon\, Saturday\, May 28\, 2022 \nHave you ever wondered what life is like for an ant? Let’s shrink down together to discover the microworld! We’ll be exploring the patterns we notice in nature\, turning over rocks to find critters and examining how beetles\, worms and fungi help recycle the trees. Be prepared to dig in the dirt. Please park and meet naturalists in the Badger Den parking lot.
URL:https://friendsofmackenzie.org/event/nature-in-miniature/
LOCATION:Badger Den
CATEGORIES:Public event
ATTACH;FMTTYPE=image/jpeg:https://friendsofmackenzie.org/wp-content/uploads/2022/04/black-ant-3667014_1920.jpg
END:VEVENT
BEGIN:VEVENT
DTSTART;TZID=America/Chicago:20220513T090000
DTEND;TZID=America/Chicago:20220513T110000
DTSTAMP:20260424T210011
CREATED:20220414T232204Z
LAST-MODIFIED:20220414T232204Z
UID:6948-1652432400-1652439600@friendsofmackenzie.org
SUMMARY:Spring Birding
DESCRIPTION:Spring Birding: 9 a.m.-11 a.m.\, Friday\, May 13\, 2022 \nIt’s that time of year when many songbirds are back in Wisconsin\, making their nests and singing their songs. Join Naturalists as we hike around the property to observe these feathered friends. We’ll be visiting the forest\, pond and prairie\, so bring comfortable shoes for hiking! Also\, feel free to bring your own birding equipment\, although we will have binoculars and field guides available. Please park and meet naturalists at the Badger Den Parking lot. If there is excessive wind\, snow\, or ice\, this events may be canceled. \n 
URL:https://friendsofmackenzie.org/event/spring-birding/
LOCATION:Badger Den
CATEGORIES:Public event
ATTACH;FMTTYPE=image/jpeg:https://friendsofmackenzie.org/wp-content/uploads/2022/04/sparrows-3434123_1920.jpg
END:VEVENT
BEGIN:VEVENT
DTSTART;TZID=America/Chicago:20220225T140000
DTEND;TZID=America/Chicago:20220225T153000
DTSTAMP:20260424T210011
CREATED:20220106T193424Z
LAST-MODIFIED:20220106T193424Z
UID:6893-1645797600-1645803000@friendsofmackenzie.org
SUMMARY:Tracks and Scat Hike
DESCRIPTION:Tracks and Scat: 2-3:30 p.m. Friday\, Feb. 25\, 2022 \nWhich wild critters have been active this winter at MacKenzie Center? Let’s learn together as we explore and identify tracks and scat using MacKenzie’s educational materials on a guided hike. Remember to dress for the weather. Please park and meet naturalists in the Lodge parking lot at 2 p.m. \nIf there is excessive wind\, snow\, or ice\, these events may be canceled.
URL:https://friendsofmackenzie.org/event/tracks-and-scat-hike/
LOCATION:Lodge
CATEGORIES:Public event
ATTACH;FMTTYPE=image/jpeg:https://friendsofmackenzie.org/wp-content/uploads/2016/12/MacKenzie_trail.jpg
END:VEVENT
BEGIN:VEVENT
DTSTART;TZID=America/Chicago:20220204T163000
DTEND;TZID=America/Chicago:20220204T193000
DTSTAMP:20260424T210011
CREATED:20220106T193028Z
LAST-MODIFIED:20220106T193028Z
UID:6891-1643992200-1644003000@friendsofmackenzie.org
SUMMARY:Candlelight Snowshoe Hike
DESCRIPTION:Candlelight Snowshoe Hike: Drop-in from 4:30-7:30 p.m. Friday\, Feb. 4\, 2022 \nJoin us at the MacKenzie Center for a fun Friday night of hiking and snowshoeing on our illuminated path. A limited number of snowshoes are available to borrow\, or you can bring your own! Please park in the Lodge parking lot. \nIf there is excessive wind\, snow\, or ice\, these events may be canceled.
URL:https://friendsofmackenzie.org/event/candlelight-snowshoe-hike-3/
LOCATION:Lodge
CATEGORIES:Public event
ATTACH;FMTTYPE=image/jpeg:https://friendsofmackenzie.org/wp-content/uploads/2017/09/mackenzie_snowshoe.jpg
END:VEVENT
BEGIN:VEVENT
DTSTART;TZID=America/Chicago:20220115T173000
DTEND;TZID=America/Chicago:20220115T193000
DTSTAMP:20260424T210011
CREATED:20220106T192727Z
LAST-MODIFIED:20220106T192727Z
UID:6889-1642267800-1642275000@friendsofmackenzie.org
SUMMARY:Wolf Moon Hike
DESCRIPTION:Wolf Moon Hike: 5:30-7:30 p.m. Saturday\, Jan. 15\, 2022 \nCome experience the natural world under the glow of the first full moon of the year called the “Wolf Moon.” We will hike through our restored prairies\, practice our observation skills and warm ourselves by the campfire. Bring your own hot beverages and dress for the weather. Please park in the Badger Den Parking Lot and meet a naturalist there promptly at 5:30 p.m. \nIf there is excessive wind\, snow\, or ice\, these events may be canceled.
URL:https://friendsofmackenzie.org/event/wolf-moon-hike/
LOCATION:Badger Den
CATEGORIES:Public event
ATTACH;FMTTYPE=image/jpeg:https://friendsofmackenzie.org/wp-content/uploads/2017/02/St.-Louis-2017-2-025-scaled.jpg
END:VEVENT
BEGIN:VEVENT
DTSTART;TZID=America/Chicago:20210811T100000
DTEND;TZID=America/Chicago:20210811T110000
DTSTAMP:20260424T210011
CREATED:20210705T200607Z
LAST-MODIFIED:20210705T200607Z
UID:6815-1628676000-1628679600@friendsofmackenzie.org
SUMMARY:Story Time with Animals
DESCRIPTION:Introduce your toddler or pre-school aged child to the outdoors during story time. Please meet inside the wildlife area near the wolves. Drop-in activities available.
URL:https://friendsofmackenzie.org/event/story-time-with-animals-7/
LOCATION:Wildlife Area\, W7303 County Highway CS\, Poynette\, 53955
CATEGORIES:Public event
ATTACH;FMTTYPE=image/jpeg:https://friendsofmackenzie.org/wp-content/uploads/2021/07/Frog-in-Pond.jpg
END:VEVENT
BEGIN:VEVENT
DTSTART;TZID=America/Chicago:20210714T090000
DTEND;TZID=America/Chicago:20210714T120000
DTSTAMP:20260424T210011
CREATED:20210705T204413Z
LAST-MODIFIED:20210705T204413Z
UID:6820-1626253200-1626264000@friendsofmackenzie.org
SUMMARY:Youth Archery Clinic
DESCRIPTION:This free archery clinic for kids ages 8-15\, will introduce your child to the sport of archery or help sharpen their skills.  This clinic is open to all skill levels.  Bows will be provided.  Please call (608)635-8112 for more information or to register.  Registration is required.
URL:https://friendsofmackenzie.org/event/youth-archery-clinic-2/
LOCATION:The MacKenzie Center\, W7303 County Highway CS\, Poynette\, 53955\, United States
CATEGORIES:Public event
END:VEVENT
END:VCALENDAR